BEGIN:VCALENDAR
VERSION:2.0
PRODID:-//ZContent.net//ZapCalLib 1.0//EN
CALSCALE:GREGORIAN
METHOD:PUBLISH
BEGIN:VEVENT
SUMMARY:GCBB @ Barnstaple Social Club
UID:1215-2026-05-15@goldencoastbigband.co.uk
DTSTART:20260515T200000
DTEND:20260515T230000
DTSTAMP:20260421T082301
LOCATION:Barnstaple Social Club, St George's Rd, Barnstaple, EX32 7AU
END:VEVENT
END:VCALENDAR
